BEGIN:VCALENDAR
VERSION:2.0
PRODID:-//wp-events-plugin.com//7.2.3.1//EN
TZID:America/New_York
X-WR-TIMEZONE:America/New_York
BEGIN:VEVENT
UID:338@stjohnacc.com
DTSTART;TZID=America/New_York:20240811T103000
DTEND;TZID=America/New_York:20240811T114500
DTSTAMP:20240730T144317Z
URL:https://www.stjohnacc.com/events/trinity-xi-mass-2/
SUMMARY:Trinity XI Mass
DESCRIPTION:Our new Episcopal Visitor\, Bishop Patrick Fodor\, will celebra
 te Mass and give the homily today on his first official visit.  Coffee Ho
 ur in the Parish Hall after Mass.  Please join us!
LOCATION:Saint John the Evangelist\, 619 O Fallon Avenue\, Dayton\, KY\, 41
 074\, United States
X-APPLE-STRUCTURED-LOCATION;VALUE=URI;X-ADDRESS=619 O Fallon Avenue\, Dayto
 n\, KY\, 41074\, United States;X-APPLE-RADIUS=100;X-TITLE=Saint John the E
 vangelist:geo:0,0
END:VEVENT
BEGIN:VTIMEZONE
TZID:America/New_York
X-LIC-LOCATION:America/New_York
BEGIN:DAYLIGHT
DTSTART:20240310T030000
TZOFFSETFROM:-0500
TZOFFSETTO:-0400
TZNAME:EDT
END:DAYLIGHT
END:VTIMEZONE
END:VCALENDAR