BEGIN:VCALENDAR
VERSION:2.0
PRODID:-//wp-events-plugin.com//7.2.3.1//EN
TZID:America/New_York
X-WR-TIMEZONE:America/New_York
BEGIN:VEVENT
UID:392@stjohnacc.com
DTSTART;TZID=America/New_York:20241117T103000
DTEND;TZID=America/New_York:20241117T110000
DTSTAMP:20241028T204920Z
URL:https://www.stjohnacc.com/events/the-order-for-daily-morning-prayer-5/
SUMMARY:The Order for Daily Morning Prayer
DESCRIPTION:Please join us for Morning Prayer lead by our Licensed Lay Read
 ers on Trinity XXV.  Bring a friend and stay for our Coffee Hour afterwar
 d!  The usual Sunday Mass with Holy Communion will resume on the 24th of 
 November.
LOCATION:Saint John the Evangelist\, 619 O Fallon Avenue\, Dayton\, KY\, 41
 074\, United States
X-APPLE-STRUCTURED-LOCATION;VALUE=URI;X-ADDRESS=619 O Fallon Avenue\, Dayto
 n\, KY\, 41074\, United States;X-APPLE-RADIUS=100;X-TITLE=Saint John the E
 vangelist:geo:0,0
END:VEVENT
BEGIN:VTIMEZONE
TZID:America/New_York
X-LIC-LOCATION:America/New_York
BEGIN:STANDARD
DTSTART:20241103T010000
TZOFFSETFROM:-0400
TZOFFSETTO:-0500
TZNAME:EST
END:STANDARD
END:VTIMEZONE
END:VCALENDAR