BEGIN:VCALENDAR
VERSION:2.0
PRODID:-//wp-events-plugin.com//7.2.3.1//EN
TZID:America/New_York
X-WR-TIMEZONE:America/New_York
BEGIN:VEVENT
UID:683@stjohnacc.com
DTSTART;TZID=America/New_York:20260418T090000
DTEND;TZID=America/New_York:20260418T093000
DTSTAMP:20260327T233518Z
URL:https://www.stjohnacc.com/events/the-order-for-daily-morning-prayer-29
 /
SUMMARY:The Order for Daily Morning Prayer
DESCRIPTION:Please join us for Morning Prayer in the church chancel.  Brin
 g a friend and stay for our Bible Study and Book Club afterward!
LOCATION:Saint John the Evangelist\, 619 O Fallon Avenue\, Dayton\, KY\, 41
 074\, United States
X-APPLE-STRUCTURED-LOCATION;VALUE=URI;X-ADDRESS=619 O Fallon Avenue\, Dayto
 n\, KY\, 41074\, United States;X-APPLE-RADIUS=100;X-TITLE=Saint John the E
 vangelist:geo:0,0
END:VEVENT
BEGIN:VTIMEZONE
TZID:America/New_York
X-LIC-LOCATION:America/New_York
BEGIN:DAYLIGHT
DTSTART:20260308T030000
TZOFFSETFROM:-0500
TZOFFSETTO:-0400
TZNAME:EDT
END:DAYLIGHT
END:VTIMEZONE
END:VCALENDAR