BEGIN:VCALENDAR
VERSION:2.0
PRODID:-//wp-events-plugin.com//7.2.3.1//EN
TZID:America/New_York
X-WR-TIMEZONE:America/New_York
BEGIN:VEVENT
UID:177@stjohnacc.com
DTSTART;TZID=America/New_York:20230916T151500
DTEND;TZID=America/New_York:20230916T161500
DTSTAMP:20230829T215606Z
URL:https://www.stjohnacc.com/events/the-book-of-life-club-reflections-on-
 the-psalms-by-c-s-lewis-2/
SUMMARY:The Book of Life Club ~ Reflections on the Psalms\, by C.S. Lewis
DESCRIPTION:We will meet in the Parish Hall and discuss chapters 5 through 
 9 of Reflections on the Psalms\, by C.S. Lewis.  Bring your favorite sna
 ck and invite a friend!
ATTACH;FMTTYPE=image/jpeg:https://www.stjohnacc.com/wp-content/uploads/202
 3/08/1f4db9753128b8f91ec66a46840b6c7f.png
LOCATION:Saint John the Evangelist\, 619 O Fallon Avenue\, Dayton\, KY\, 41
 074\, United States
X-APPLE-STRUCTURED-LOCATION;VALUE=URI;X-ADDRESS=619 O Fallon Avenue\, Dayto
 n\, KY\, 41074\, United States;X-APPLE-RADIUS=100;X-TITLE=Saint John the E
 vangelist:geo:0,0
END:VEVENT
BEGIN:VTIMEZONE
TZID:America/New_York
X-LIC-LOCATION:America/New_York
BEGIN:DAYLIGHT
DTSTART:20230312T030000
TZOFFSETFROM:-0500
TZOFFSETTO:-0400
TZNAME:EDT
END:DAYLIGHT
END:VTIMEZONE
END:VCALENDAR