BEGIN:VCALENDAR
VERSION:2.0
PRODID:-//wp-events-plugin.com//7.2.3.1//EN
TZID:America/New_York
X-WR-TIMEZONE:America/New_York
BEGIN:VEVENT
UID:250@stjohnacc.com
DTSTART;TZID=America/New_York:20240213T170000
DTEND;TZID=America/New_York:20240213T200000
DTSTAMP:20240130T170350Z
URL:https://www.stjohnacc.com/events/shrove-tuesday-pancake-day/
SUMMARY:Shrove Tuesday Pancake Day
DESCRIPTION:Evening Prayer at 5:00 PM.  Afterward Please join us this even
 ing in the Parish Hall from 5:30-8:00 PM for Pancakes\, some other just be
 fore Lent tasties\, and games!
LOCATION:Saint John the Evangelist\, 619 O Fallon Avenue\, Dayton\, KY\, 41
 074\, United States
X-APPLE-STRUCTURED-LOCATION;VALUE=URI;X-ADDRESS=619 O Fallon Avenue\, Dayto
 n\, KY\, 41074\, United States;X-APPLE-RADIUS=100;X-TITLE=Saint John the E
 vangelist:geo:0,0
END:VEVENT
BEGIN:VTIMEZONE
TZID:America/New_York
X-LIC-LOCATION:America/New_York
BEGIN:STANDARD
DTSTART:20231105T010000
TZOFFSETFROM:-0400
TZOFFSETTO:-0500
TZNAME:EST
END:STANDARD
END:VTIMEZONE
END:VCALENDAR