BEGIN:VCALENDAR
VERSION:2.0
PRODID:-//wp-events-plugin.com//7.2.3.1//EN
TZID:America/New_York
X-WR-TIMEZONE:America/New_York
BEGIN:VEVENT
UID:654@stjohnacc.com
DTSTART;TZID=America/New_York:20260314T140000
DTEND;TZID=America/New_York:20260314T180000
DTSTAMP:20260226T201101Z
URL:https://www.stjohnacc.com/events/saint-patricks-party/
SUMMARY:Saint Patrick's party!
DESCRIPTION:Church party celebrating Saint Patrick at Judy H's home in Augu
 sta\, KY!  You can make a day out of this trip and see the local attracti
 ons of Augusta!  A beautiful KY town!
LOCATION:https://www.google.com/maps/place/Augusta,+KY+41002/@38.7701551,-8
 4.0187861,14z/data=!3m1!4b1!4m6!3m5!1s0x88416b9343235e2b:0x69e46bb55e305fe
 d!8m2!3d38.7717376!4d-84.0057628!16zL20vMHRjdnE?entry=ttu&g_ep=EgoyMDI2MDI
 yMy4wIKXMDSoASAFQAw%3D%3D
END:VEVENT
BEGIN:VTIMEZONE
TZID:America/New_York
X-LIC-LOCATION:America/New_York
BEGIN:DAYLIGHT
DTSTART:20260308T030000
TZOFFSETFROM:-0500
TZOFFSETTO:-0400
TZNAME:EDT
END:DAYLIGHT
END:VTIMEZONE
END:VCALENDAR