BEGIN:VCALENDAR
VERSION:2.0
PRODID:-//wp-events-plugin.com//7.2.3.1//EN
TZID:America/New_York
X-WR-TIMEZONE:America/New_York
BEGIN:VEVENT
UID:156@stjohnacc.com
DTSTART;TZID=America/New_York:20230725T183000
DTEND;TZID=America/New_York:20230725T193000
DTSTAMP:20230701T193624Z
URL:https://www.stjohnacc.com/events/saint-james-apostle-martyr-quiet-mass
 /
SUMMARY:Saint James\, Apostle & Martyr\, "Quiet" Mass
DESCRIPTION:No Organ music.  No hymns.  Quiet read Mass only.  A Mass fo
 r those seeking quiet time to contemplate what it means to be a true disci
 ple of Christ.
LOCATION:Saint John the Evangelist\, 619 O Fallon Avenue\, Dayton\, KY\, 41
 074\, United States
X-APPLE-STRUCTURED-LOCATION;VALUE=URI;X-ADDRESS=619 O Fallon Avenue\, Dayto
 n\, KY\, 41074\, United States;X-APPLE-RADIUS=100;X-TITLE=Saint John the E
 vangelist:geo:0,0
END:VEVENT
BEGIN:VTIMEZONE
TZID:America/New_York
X-LIC-LOCATION:America/New_York
BEGIN:DAYLIGHT
DTSTART:20230312T030000
TZOFFSETFROM:-0500
TZOFFSETTO:-0400
TZNAME:EDT
END:DAYLIGHT
END:VTIMEZONE
END:VCALENDAR