BEGIN:VCALENDAR
VERSION:2.0
PRODID:-//wp-events-plugin.com//7.2.3.1//EN
TZID:America/New_York
X-WR-TIMEZONE:America/New_York
BEGIN:VEVENT
UID:645@stjohnacc.com
DTSTART;TZID=America/New_York:20260221T080000
DTEND;TZID=America/New_York:20260221T093000
DTSTAMP:20260128T152624Z
URL:https://www.stjohnacc.com/events/rule-of-faith-meeting-28/
SUMMARY:Rule of Faith Meeting
DESCRIPTION:Meeting this month in the Parish Hall. Discussion of the Pelagi
 an Controversy: Pelagius' Letter to Demetrias and Letter &amp\; Confessi
 on of Faith to Innocent I.
LOCATION:http://622%20Buttermilk%20Pike%20Suite%20A,%20Crescent%20Springs,%
 20KY%2041017
END:VEVENT
BEGIN:VTIMEZONE
TZID:America/New_York
X-LIC-LOCATION:America/New_York
BEGIN:STANDARD
DTSTART:20251102T010000
TZOFFSETFROM:-0400
TZOFFSETTO:-0500
TZNAME:EST
END:STANDARD
END:VTIMEZONE
END:VCALENDAR