BEGIN:VCALENDAR
VERSION:2.0
PRODID:-//wp-events-plugin.com//7.2.3.1//EN
TZID:America/New_York
X-WR-TIMEZONE:America/New_York
BEGIN:VEVENT
UID:583@stjohnacc.com
DTSTART;TZID=America/New_York:20251115T080000
DTEND;TZID=America/New_York:20251115T093000
DTSTAMP:20251030T162852Z
URL:https://www.stjohnacc.com/events/rule-of-faith-meeting-25/
SUMMARY:Rule of Faith Meeting
DESCRIPTION:Meeting once again at Panera Bread. Discussion of St. Alexander
 's epistles against the Arian heresy.
LOCATION:http://622%20Buttermilk%20Pike%20Suite%20A,%20Crescent%20Springs,%
 20KY%2041017
END:VEVENT
BEGIN:VTIMEZONE
TZID:America/New_York
X-LIC-LOCATION:America/New_York
BEGIN:STANDARD
DTSTART:20251102T010000
TZOFFSETFROM:-0400
TZOFFSETTO:-0500
TZNAME:EST
END:STANDARD
END:VTIMEZONE
END:VCALENDAR