BEGIN:VCALENDAR
VERSION:2.0
PRODID:-//wp-events-plugin.com//7.2.3.1//EN
TZID:America/New_York
X-WR-TIMEZONE:America/New_York
BEGIN:VEVENT
UID:538@stjohnacc.com
DTSTART;TZID=America/New_York:20250726T080000
DTEND;TZID=America/New_York:20250726T093000
DTSTAMP:20250630T152139Z
URL:https://www.stjohnacc.com/events/rule-of-faith-meeting-20/
SUMMARY:Rule of Faith Meeting
DESCRIPTION:Meeting once again at Panera Bread. Continued discussion of Ori
 gin\, the first 5 chapters of Book 2 "On First Principles".
LOCATION:http://622%20Buttermilk%20Pike%20Suite%20A,%20Crescent%20Springs,%
 20KY%2041017
END:VEVENT
BEGIN:VTIMEZONE
TZID:America/New_York
X-LIC-LOCATION:America/New_York
BEGIN:DAYLIGHT
DTSTART:20250309T030000
TZOFFSETFROM:-0500
TZOFFSETTO:-0400
TZNAME:EDT
END:DAYLIGHT
END:VTIMEZONE
END:VCALENDAR