BEGIN:VCALENDAR
VERSION:2.0
PRODID:-//wp-events-plugin.com//7.2.3.1//EN
TZID:America/New_York
X-WR-TIMEZONE:America/New_York
BEGIN:VEVENT
UID:349@stjohnacc.com
DTSTART;TZID=America/New_York:20240824T073000
DTEND;TZID=America/New_York:20240824T083000
DTSTAMP:20240730T222120Z
URL:https://www.stjohnacc.com/events/rule-of-faith-meeting-2/
SUMMARY:Rule of Faith Meeting
DESCRIPTION:Meeting will take place at Panera Bread Crescent Springs.
LOCATION:https://www.panerabread.com/en-us/cafe/locations/ky/crescent-sprin
 gs/622-buttermilk-pike
END:VEVENT
BEGIN:VTIMEZONE
TZID:America/New_York
X-LIC-LOCATION:America/New_York
BEGIN:DAYLIGHT
DTSTART:20240310T030000
TZOFFSETFROM:-0500
TZOFFSETTO:-0400
TZNAME:EDT
END:DAYLIGHT
END:VTIMEZONE
END:VCALENDAR