BEGIN:VCALENDAR
VERSION:2.0
PRODID:-//wp-events-plugin.com//7.2.3.1//EN
TZID:America/New_York
X-WR-TIMEZONE:America/New_York
BEGIN:VEVENT
UID:443@stjohnacc.com
DTSTART;TZID=America/New_York:20250222T073000
DTEND;TZID=America/New_York:20250222T090000
DTSTAMP:20250130T155115Z
URL:https://www.stjohnacc.com/events/rule-of-faith-meeting-12/
SUMMARY:Rule of Faith Meeting
DESCRIPTION:Meeting once again at Panera Bread. Concluding discussion of Sa
 int Cyprian "On the Lord's Prayer".
LOCATION:http://622%20Buttermilk%20Pike%20Suite%20A,%20Crescent%20Springs,%
 20KY%2041017
END:VEVENT
BEGIN:VTIMEZONE
TZID:America/New_York
X-LIC-LOCATION:America/New_York
BEGIN:STANDARD
DTSTART:20241103T010000
TZOFFSETFROM:-0400
TZOFFSETTO:-0500
TZNAME:EST
END:STANDARD
END:VTIMEZONE
END:VCALENDAR