BEGIN:VCALENDAR
VERSION:2.0
PRODID:-//wp-events-plugin.com//7.2.3.1//EN
TZID:America/New_York
X-WR-TIMEZONE:America/New_York
BEGIN:VEVENT
UID:625@stjohnacc.com
DTSTART;TZID=America/New_York:20260202T183000
DTEND;TZID=America/New_York:20260202T194500
DTSTAMP:20260127T195040Z
URL:https://www.stjohnacc.com/events/purification-b-v-m-candlemas/
SUMMARY:Purification\, B.V.M. (Candlemas)
DESCRIPTION:Please join us as we join the holy procession first made by the
  Virgin Mother\, S. Joseph\, Ss. Symeon and Anna\, to be afterwards perfor
 med in all places and by every nation\, with the exultation of the whole e
 arth to honor this mystery!
LOCATION:Saint John the Evangelist\, 619 O Fallon Avenue\, Dayton\, KY\, 41
 074\, United States
X-APPLE-STRUCTURED-LOCATION;VALUE=URI;X-ADDRESS=619 O Fallon Avenue\, Dayto
 n\, KY\, 41074\, United States;X-APPLE-RADIUS=100;X-TITLE=Saint John the E
 vangelist:geo:0,0
END:VEVENT
BEGIN:VTIMEZONE
TZID:America/New_York
X-LIC-LOCATION:America/New_York
BEGIN:STANDARD
DTSTART:20251102T010000
TZOFFSETFROM:-0400
TZOFFSETTO:-0500
TZNAME:EST
END:STANDARD
END:VTIMEZONE
END:VCALENDAR