BEGIN:VCALENDAR
VERSION:2.0
PRODID:-//wp-events-plugin.com//7.2.3.1//EN
TZID:America/New_York
X-WR-TIMEZONE:America/New_York
BEGIN:VEVENT
UID:686@stjohnacc.com
DTSTART;TZID=America/New_York:20260419T094500
DTEND;TZID=America/New_York:20260419T101500
DTSTAMP:20260327T233814Z
URL:https://www.stjohnacc.com/events/psalm-children-sunday-school-class-10
 /
SUMMARY:Psalm-Children Sunday School Class
DESCRIPTION:Psalm-Children Sunday School Class open to all ages.  Bring yo
 ur children to the Parish Hall before Mass to learn and grow in the Christ
 ian faith!
LOCATION:Saint John the Evangelist\, 619 O Fallon Avenue\, Dayton\, KY\, 41
 074\, United States
X-APPLE-STRUCTURED-LOCATION;VALUE=URI;X-ADDRESS=619 O Fallon Avenue\, Dayto
 n\, KY\, 41074\, United States;X-APPLE-RADIUS=100;X-TITLE=Saint John the E
 vangelist:geo:0,0
END:VEVENT
BEGIN:VTIMEZONE
TZID:America/New_York
X-LIC-LOCATION:America/New_York
BEGIN:DAYLIGHT
DTSTART:20260308T030000
TZOFFSETFROM:-0500
TZOFFSETTO:-0400
TZNAME:EDT
END:DAYLIGHT
END:VTIMEZONE
END:VCALENDAR