BEGIN:VCALENDAR
VERSION:2.0
PRODID:-//wp-events-plugin.com//7.2.3.1//EN
TZID:America/New_York
X-WR-TIMEZONE:America/New_York
BEGIN:VEVENT
UID:409@stjohnacc.com
DTSTART;TZID=America/New_York:20241224T163000
DTEND;TZID=America/New_York:20241224T173000
DTSTAMP:20241127T212935Z
URL:https://www.stjohnacc.com/events/nine-lessons-and-carols-2/
SUMMARY:Nine Lessons and Carols
DESCRIPTION:Please come to our Nine Lessons &amp\; Carols on Christmas Eve 
 beginning at 4:30 PM on the 24th\, an Anglican tradition since 1918.  It 
 is a wonderful experience of the simple beauty of Christmas carols and Chr
 istian worship combined that shine through and attract those who have lost
  their faith\,  struggle with their faith\, or are moved to strengthen th
 eir faith.  The main theme is the development of the loving purposes of G
 od as viewed “through the windows and the words of the Holy Bible.”  
 The Nine Lessons &amp\; Carols are aimed at simplicity\, designed to focus
  on “color\, warmth\, and delight.”  And who doesn't love to sing Chr
 istmas carols?  All are welcome.  Please join us and bring family and fr
 iends!
LOCATION:Saint John the Evangelist\, 619 O Fallon Avenue\, Dayton\, KY\, 41
 074\, United States
X-APPLE-STRUCTURED-LOCATION;VALUE=URI;X-ADDRESS=619 O Fallon Avenue\, Dayto
 n\, KY\, 41074\, United States;X-APPLE-RADIUS=100;X-TITLE=Saint John the E
 vangelist:geo:0,0
END:VEVENT
BEGIN:VTIMEZONE
TZID:America/New_York
X-LIC-LOCATION:America/New_York
BEGIN:STANDARD
DTSTART:20241103T010000
TZOFFSETFROM:-0400
TZOFFSETTO:-0500
TZNAME:EST
END:STANDARD
END:VTIMEZONE
END:VCALENDAR