BEGIN:VCALENDAR
VERSION:2.0
PRODID:-//wp-events-plugin.com//7.2.3.1//EN
TZID:America/New_York
X-WR-TIMEZONE:America/New_York
BEGIN:VEVENT
UID:206@stjohnacc.com
DTSTART;TZID=America/New_York:20231115T183000
DTEND;TZID=America/New_York:20231115T190000
DTSTAMP:20231030T191543Z
URL:https://www.stjohnacc.com/events/evening-prayer-42/
SUMMARY:Evening Prayer
DESCRIPTION:Fellowship Meal in the Parish Hall after Evening Prayer.  Plea
 se join us! The sun looks down on nothing half so good as a household laug
 hing together over a meal.  C.S. Lewis\, The Weight of Glory
LOCATION:Saint John the Evangelist\, 619 O Fallon Avenue\, Dayton\, KY\, 41
 074\, United States
X-APPLE-STRUCTURED-LOCATION;VALUE=URI;X-ADDRESS=619 O Fallon Avenue\, Dayto
 n\, KY\, 41074\, United States;X-APPLE-RADIUS=100;X-TITLE=Saint John the E
 vangelist:geo:0,0
END:VEVENT
BEGIN:VTIMEZONE
TZID:America/New_York
X-LIC-LOCATION:America/New_York
BEGIN:STANDARD
DTSTART:20231105T010000
TZOFFSETFROM:-0400
TZOFFSETTO:-0500
TZNAME:EST
END:STANDARD
END:VTIMEZONE
END:VCALENDAR