BEGIN:VCALENDAR
VERSION:2.0
PRODID:-//wp-events-plugin.com//7.2.3.1//EN
TZID:America/New_York
X-WR-TIMEZONE:America/New_York
BEGIN:VEVENT
UID:231@stjohnacc.com
DTSTART;TZID=America/New_York:20240107T104500
DTEND;TZID=America/New_York:20240107T120000
DTSTAMP:20231230T165931Z
URL:https://www.stjohnacc.com/events/epiphany-i-mass/
SUMMARY:Epiphany I Mass
DESCRIPTION:Coffee Hour after Mass in the Parish Hall.  Please join us as 
 we celebrate with our newly Confirmed!  Archbishop Haverland will join us
  to cap off 150 years of continual worship at Saint John the Evangelist.
LOCATION:Saint John the Evangelist\, 619 O Fallon Avenue\, Dayton\, KY\, 41
 074\, United States
X-APPLE-STRUCTURED-LOCATION;VALUE=URI;X-ADDRESS=619 O Fallon Avenue\, Dayto
 n\, KY\, 41074\, United States;X-APPLE-RADIUS=100;X-TITLE=Saint John the E
 vangelist:geo:0,0
END:VEVENT
BEGIN:VTIMEZONE
TZID:America/New_York
X-LIC-LOCATION:America/New_York
BEGIN:STANDARD
DTSTART:20231105T010000
TZOFFSETFROM:-0400
TZOFFSETTO:-0500
TZNAME:EST
END:STANDARD
END:VTIMEZONE
END:VCALENDAR