BEGIN:VCALENDAR
VERSION:2.0
PRODID:-//wp-events-plugin.com//7.2.3.1//EN
TZID:America/New_York
X-WR-TIMEZONE:America/New_York
BEGIN:VEVENT
UID:675@stjohnacc.com
DTSTART;TZID=America/New_York:20260404T183000
DTEND;TZID=America/New_York:20260404T193000
DTSTAMP:20260327T232703Z
URL:https://www.stjohnacc.com/events/easter-eve-service-lighting-of-the-ne
 w-fire-2/
SUMMARY:Easter Eve Service - Lighting of the New Fire
DESCRIPTION:Please join us for a candle light Easter Eve Service.  Lightin
 g of the New Fire\, Blessing of the Paschal Candle\, and Blessing of the B
 aptismal Font.  Bring a friend to this beautiful service!
LOCATION:Saint John the Evangelist\, 619 O Fallon Avenue\, Dayton\, KY\, 41
 074\, United States
X-APPLE-STRUCTURED-LOCATION;VALUE=URI;X-ADDRESS=619 O Fallon Avenue\, Dayto
 n\, KY\, 41074\, United States;X-APPLE-RADIUS=100;X-TITLE=Saint John the E
 vangelist:geo:0,0
END:VEVENT
BEGIN:VTIMEZONE
TZID:America/New_York
X-LIC-LOCATION:America/New_York
BEGIN:DAYLIGHT
DTSTART:20260308T030000
TZOFFSETFROM:-0500
TZOFFSETTO:-0400
TZNAME:EDT
END:DAYLIGHT
END:VTIMEZONE
END:VCALENDAR