BEGIN:VCALENDAR
VERSION:2.0
PRODID:-//wp-events-plugin.com//7.2.3.1//EN
TZID:America/New_York
X-WR-TIMEZONE:America/New_York
BEGIN:VEVENT
UID:608@stjohnacc.com
DTSTART;TZID=America/New_York:20260104T103000
DTEND;TZID=America/New_York:20260104T114500
DTSTAMP:20260102T145040Z
URL:https://www.stjohnacc.com/events/christmas-ii-mass-2/
SUMMARY:Christmas II Mass
DESCRIPTION:Baptism of Andrew Blake Chancery II at the beginning of Mass. 
  Please join us after Mass in the Parish Hall for our Coffee Hour fellows
 hip and celebration.  Bring a friend!
LOCATION:Saint John the Evangelist\, 619 O Fallon Avenue\, Dayton\, KY\, 41
 074\, United States
X-APPLE-STRUCTURED-LOCATION;VALUE=URI;X-ADDRESS=619 O Fallon Avenue\, Dayto
 n\, KY\, 41074\, United States;X-APPLE-RADIUS=100;X-TITLE=Saint John the E
 vangelist:geo:0,0
END:VEVENT
BEGIN:VTIMEZONE
TZID:America/New_York
X-LIC-LOCATION:America/New_York
BEGIN:STANDARD
DTSTART:20251102T010000
TZOFFSETFROM:-0400
TZOFFSETTO:-0500
TZNAME:EST
END:STANDARD
END:VTIMEZONE
END:VCALENDAR