BEGIN:VCALENDAR
VERSION:2.0
PRODID:-//wp-events-plugin.com//7.2.3.1//EN
TZID:America/New_York
X-WR-TIMEZONE:America/New_York
BEGIN:VEVENT
UID:216@stjohnacc.com
DTSTART;TZID=America/New_York:20231209T151500
DTEND;TZID=America/New_York:20231209T161500
DTSTAMP:20231130T163802Z
URL:https://www.stjohnacc.com/events/book-of-life-club-6/
SUMMARY:Book of Life Club
DESCRIPTION:The Book of Life Club will meet in the Parish Hall.  This mont
 h we hope to conclude The Anti-Mary Exposed\, by Carrie Gress and launch
  our next book\, The Abolition of Man\, by C.S. Lewis.  Please join us 
 to learn and grow!
LOCATION:Saint John the Evangelist\, 619 O Fallon Avenue\, Dayton\, KY\, 41
 074\, United States
X-APPLE-STRUCTURED-LOCATION;VALUE=URI;X-ADDRESS=619 O Fallon Avenue\, Dayto
 n\, KY\, 41074\, United States;X-APPLE-RADIUS=100;X-TITLE=Saint John the E
 vangelist:geo:0,0
END:VEVENT
BEGIN:VTIMEZONE
TZID:America/New_York
X-LIC-LOCATION:America/New_York
BEGIN:STANDARD
DTSTART:20231105T010000
TZOFFSETFROM:-0400
TZOFFSETTO:-0500
TZNAME:EST
END:STANDARD
END:VTIMEZONE
END:VCALENDAR