BEGIN:VCALENDAR
VERSION:2.0
PRODID:-//wp-events-plugin.com//7.2.3.1//EN
TZID:America/New_York
X-WR-TIMEZONE:America/New_York
BEGIN:VEVENT
UID:196@stjohnacc.com
DTSTART;TZID=America/New_York:20231028T151500
DTEND;TZID=America/New_York:20231028T161500
DTSTAMP:20230929T143042Z
URL:https://www.stjohnacc.com/events/book-of-life-club-4/
SUMMARY:Book of Life Club
DESCRIPTION:Do you like to read?  Please join the Book of Life Club in the
  Parish Hall as we begin our discussion on The AntiMary Exposed\, by Carri
 e Gress.
LOCATION:Saint John the Evangelist\, 619 O Fallon Avenue\, Dayton\, KY\, 41
 074\, United States
X-APPLE-STRUCTURED-LOCATION;VALUE=URI;X-ADDRESS=619 O Fallon Avenue\, Dayto
 n\, KY\, 41074\, United States;X-APPLE-RADIUS=100;X-TITLE=Saint John the E
 vangelist:geo:0,0
END:VEVENT
BEGIN:VTIMEZONE
TZID:America/New_York
X-LIC-LOCATION:America/New_York
BEGIN:DAYLIGHT
DTSTART:20230312T030000
TZOFFSETFROM:-0500
TZOFFSETTO:-0400
TZNAME:EDT
END:DAYLIGHT
END:VTIMEZONE
END:VCALENDAR