BEGIN:VCALENDAR
VERSION:2.0
PRODID:-//wp-events-plugin.com//7.2.3.1//EN
TZID:America/New_York
X-WR-TIMEZONE:America/New_York
BEGIN:VEVENT
UID:360@stjohnacc.com
DTSTART;TZID=America/New_York:20240921T140000
DTEND;TZID=America/New_York:20240921T150000
DTSTAMP:20240920T212543Z
URL:https://www.stjohnacc.com/events/book-club-9/
SUMMARY:Book Club
DESCRIPTION:Please join us in the Parish Hall as The Book of Life Club con
 cludes their discussion on their recent reading of The Theologia Germanica
 .  We will be also launch our next selection\, Leaf by Niggle \, by J.R.R
 . Tolkien.  Please join our group and bring a friend!
LOCATION:Saint John the Evangelist\, 619 O Fallon Avenue\, Dayton\, KY\, 41
 074\, United States
X-APPLE-STRUCTURED-LOCATION;VALUE=URI;X-ADDRESS=619 O Fallon Avenue\, Dayto
 n\, KY\, 41074\, United States;X-APPLE-RADIUS=100;X-TITLE=Saint John the E
 vangelist:geo:0,0
END:VEVENT
BEGIN:VTIMEZONE
TZID:America/New_York
X-LIC-LOCATION:America/New_York
BEGIN:DAYLIGHT
DTSTART:20240310T030000
TZOFFSETFROM:-0500
TZOFFSETTO:-0400
TZNAME:EDT
END:DAYLIGHT
END:VTIMEZONE
END:VCALENDAR