BEGIN:VCALENDAR
VERSION:2.0
PRODID:-//wp-events-plugin.com//7.2.3.1//EN
TZID:America/New_York
X-WR-TIMEZONE:America/New_York
BEGIN:VEVENT
UID:256@stjohnacc.com
DTSTART;TZID=America/New_York:20240224T104500
DTEND;TZID=America/New_York:20240224T114500
DTSTAMP:20240220T165704Z
URL:https://www.stjohnacc.com/events/book-club-2/
SUMMARY:Book Club
DESCRIPTION:The Book of Life Club will meet together in the Parish Hall. 
  This month we will be reading and discussing Too Good To Be False\, by
  Tom Gilson.  Please join us as we learn and laugh together!
LOCATION:Saint John the Evangelist\, 619 O Fallon Avenue\, Dayton\, KY\, 41
 074\, United States
X-APPLE-STRUCTURED-LOCATION;VALUE=URI;X-ADDRESS=619 O Fallon Avenue\, Dayto
 n\, KY\, 41074\, United States;X-APPLE-RADIUS=100;X-TITLE=Saint John the E
 vangelist:geo:0,0
END:VEVENT
BEGIN:VTIMEZONE
TZID:America/New_York
X-LIC-LOCATION:America/New_York
BEGIN:STANDARD
DTSTART:20231105T010000
TZOFFSETFROM:-0400
TZOFFSETTO:-0500
TZNAME:EST
END:STANDARD
END:VTIMEZONE
END:VCALENDAR