BEGIN:VCALENDAR
VERSION:2.0
PRODID:-//wp-events-plugin.com//7.2.3.1//EN
TZID:America/New_York
X-WR-TIMEZONE:America/New_York
BEGIN:VEVENT
UID:203@stjohnacc.com
DTSTART;TZID=America/New_York:20231111T140000
DTEND;TZID=America/New_York:20231111T150000
DTSTAMP:20231030T171631Z
URL:https://www.stjohnacc.com/events/bible-study-lineup-the-usual-suspects
 -club-3/
SUMMARY:Bible Study Lineup - The Usual Suspects Club
DESCRIPTION:The Usual Suspects will continue the study of The General Epist
 le of James.  Please join us!
LOCATION:Saint John the Evangelist\, 619 O Fallon Avenue\, Dayton\, KY\, 41
 074\, United States
X-APPLE-STRUCTURED-LOCATION;VALUE=URI;X-ADDRESS=619 O Fallon Avenue\, Dayto
 n\, KY\, 41074\, United States;X-APPLE-RADIUS=100;X-TITLE=Saint John the E
 vangelist:geo:0,0
END:VEVENT
BEGIN:VTIMEZONE
TZID:America/New_York
X-LIC-LOCATION:America/New_York
BEGIN:STANDARD
DTSTART:20231105T010000
TZOFFSETFROM:-0400
TZOFFSETTO:-0500
TZNAME:EST
END:STANDARD
END:VTIMEZONE
END:VCALENDAR