BEGIN:VCALENDAR
VERSION:2.0
PRODID:-//wp-events-plugin.com//7.2.3.1//EN
TZID:America/New_York
X-WR-TIMEZONE:America/New_York
BEGIN:VEVENT
UID:255@stjohnacc.com
DTSTART;TZID=America/New_York:20240224T093000
DTEND;TZID=America/New_York:20240224T103000
DTSTAMP:20240220T165636Z
URL:https://www.stjohnacc.com/events/bible-study-3/
SUMMARY:Bible Study
DESCRIPTION:Bible Study Lineup in the Parish Hall with The Usual Suspects
  Club.  Please join us this month as we continue to work through the Gene
 ral Epistle of James.
LOCATION:Saint John the Evangelist\, 619 O Fallon Avenue\, Dayton\, KY\, 41
 074\, United States
X-APPLE-STRUCTURED-LOCATION;VALUE=URI;X-ADDRESS=619 O Fallon Avenue\, Dayto
 n\, KY\, 41074\, United States;X-APPLE-RADIUS=100;X-TITLE=Saint John the E
 vangelist:geo:0,0
END:VEVENT
BEGIN:VTIMEZONE
TZID:America/New_York
X-LIC-LOCATION:America/New_York
BEGIN:STANDARD
DTSTART:20231105T010000
TZOFFSETFROM:-0400
TZOFFSETTO:-0500
TZNAME:EST
END:STANDARD
END:VTIMEZONE
END:VCALENDAR