BEGIN:VCALENDAR
VERSION:2.0
PRODID:-//wp-events-plugin.com//7.2.3.1//EN
TZID:America/New_York
X-WR-TIMEZONE:America/New_York
BEGIN:VEVENT
UID:438@stjohnacc.com
DTSTART;TZID=America/New_York:20250215T094500
DTEND;TZID=America/New_York:20250215T104500
DTSTAMP:20250130T154315Z
URL:https://www.stjohnacc.com/events/bible-study-15/
SUMMARY:Bible Study
DESCRIPTION:Please join The Usual Suspects in the Parish Hall as we study 
 and discuss the Book of Esther &amp\; the Apocryphal Rest of the Book of E
 sther.  Bring a friend!
LOCATION:Saint John the Evangelist\, 619 O Fallon Avenue\, Dayton\, KY\, 41
 074\, United States
X-APPLE-STRUCTURED-LOCATION;VALUE=URI;X-ADDRESS=619 O Fallon Avenue\, Dayto
 n\, KY\, 41074\, United States;X-APPLE-RADIUS=100;X-TITLE=Saint John the E
 vangelist:geo:0,0
END:VEVENT
BEGIN:VTIMEZONE
TZID:America/New_York
X-LIC-LOCATION:America/New_York
BEGIN:STANDARD
DTSTART:20241103T010000
TZOFFSETFROM:-0400
TZOFFSETTO:-0500
TZNAME:EST
END:STANDARD
END:VTIMEZONE
END:VCALENDAR