BEGIN:VCALENDAR
VERSION:2.0
PRODID:-//wp-events-plugin.com//7.2.3.1//EN
TZID:America/New_York
X-WR-TIMEZONE:America/New_York
BEGIN:VEVENT
UID:199@stjohnacc.com
DTSTART;TZID=America/New_York:20231102T183000
DTEND;TZID=America/New_York:20231102T193000
DTSTAMP:20230929T143918Z
URL:https://www.stjohnacc.com/events/all-souls-day-mass/
SUMMARY:All Souls' Day Mass
DESCRIPTION:"Quiet" Mass.  Please bring a candle for a departed loved one.
   Please join us for this solemn commemoration of All the Faithful Depart
 ed.
LOCATION:Saint John the Evangelist\, 619 O Fallon Avenue\, Dayton\, KY\, 41
 074\, United States
X-APPLE-STRUCTURED-LOCATION;VALUE=URI;X-ADDRESS=619 O Fallon Avenue\, Dayto
 n\, KY\, 41074\, United States;X-APPLE-RADIUS=100;X-TITLE=Saint John the E
 vangelist:geo:0,0
END:VEVENT
BEGIN:VTIMEZONE
TZID:America/New_York
X-LIC-LOCATION:America/New_York
BEGIN:DAYLIGHT
DTSTART:20230312T030000
TZOFFSETFROM:-0500
TZOFFSETTO:-0400
TZNAME:EDT
END:DAYLIGHT
END:VTIMEZONE
END:VCALENDAR