BEGIN:VCALENDAR
VERSION:2.0
PRODID:-//wp-events-plugin.com//7.2.3.1//EN
TZID:America/New_York
X-WR-TIMEZONE:America/New_York
BEGIN:VEVENT
UID:601@stjohnacc.com
DTSTART;TZID=America/New_York:20251224T163000
DTEND;TZID=America/New_York:20251224T173000
DTSTAMP:20251129T181553Z
URL:https://www.stjohnacc.com/events/a-festival-of-nine-lessons-carols/
SUMMARY:A Festival of Nine Lessons & Carols
DESCRIPTION:Please join us early Christmas Eve for Lessons and Christmas Ca
 rols.  Bring family and friends!
LOCATION:Saint John the Evangelist\, 619 O Fallon Avenue\, Dayton\, KY\, 41
 074\, United States
X-APPLE-STRUCTURED-LOCATION;VALUE=URI;X-ADDRESS=619 O Fallon Avenue\, Dayto
 n\, KY\, 41074\, United States;X-APPLE-RADIUS=100;X-TITLE=Saint John the E
 vangelist:geo:0,0
END:VEVENT
BEGIN:VTIMEZONE
TZID:America/New_York
X-LIC-LOCATION:America/New_York
BEGIN:STANDARD
DTSTART:20251102T010000
TZOFFSETFROM:-0400
TZOFFSETTO:-0500
TZNAME:EST
END:STANDARD
END:VTIMEZONE
END:VCALENDAR